BEGIN:VCALENDAR
VERSION:2.0
PRODID:ics.py 0.8.0.dev0 - http://git.io/lLljaA
BEGIN:VTIMEZONE
TZID:/ics.py/2020.1/Europe/Madrid
BEGIN:DAYLIGHT
TZOFFSETFROM:+0100
TZOFFSETTO:+0200
DTSTART:19700329T020000
RRULE:FREQ=YEARLY;BYMONTH=3;BYDAY=-1SU
RDATE:19700329T020000
TZNAME:CEST
END:DAYLIGHT
BEGIN:STANDARD
TZOFFSETFROM:+0200
TZOFFSETTO:+0100
DTSTART:19701025T030000
RRULE:FREQ=YEARLY;BYMONTH=10;BYDAY=-1SU
RDATE:19701025T030000
TZNAME:CET
END:STANDARD
LAST-MODIFIED:20200620T153818Z
X-LIC-LOCATION:Europe/Madrid
END:VTIMEZONE
BEGIN:VEVENT
DTSTART;TZID=/ics.py/2020.1/Europe/Madrid:20260514T081500
DTEND;TZID=/ics.py/2020.1/Europe/Madrid:20260514T094500
SUMMARY:I-WIL Networking Breakfast
UID:f3b2bc54-9439-40c5-9e62-8b3135c425b6@f3b2.org
DESCRIPTION:https://apply.iese.edu/i-wil-breakfast-mayo
LOCATION:
URL:https://apply.iese.edu/i-wil-breakfast-mayo
DTSTAMP:20260421T103857Z
END:VEVENT
END:VCALENDAR