BEGIN:VCALENDAR
VERSION:2.0
PRODID:ics.py 0.8.0.dev0 - http://git.io/lLljaA
BEGIN:VTIMEZONE
TZID:/ics.py/2020.1/Europe/Madrid
BEGIN:DAYLIGHT
TZOFFSETFROM:+0100
TZOFFSETTO:+0200
DTSTART:19700329T020000
RRULE:FREQ=YEARLY;BYMONTH=3;BYDAY=-1SU
RDATE:19700329T020000
TZNAME:CEST
END:DAYLIGHT
BEGIN:STANDARD
TZOFFSETFROM:+0200
TZOFFSETTO:+0100
DTSTART:19701025T030000
RRULE:FREQ=YEARLY;BYMONTH=10;BYDAY=-1SU
RDATE:19701025T030000
TZNAME:CET
END:STANDARD
LAST-MODIFIED:20200620T153818Z
X-LIC-LOCATION:Europe/Madrid
END:VTIMEZONE
BEGIN:VEVENT
DTSTART;TZID=/ics.py/2020.1/Europe/Madrid:20260718T140000
DTEND;TZID=/ics.py/2020.1/Europe/Madrid:20260718T213000
SUMMARY:From Globalization to Geoeconomics: Navigating the New Power
UID:12d5b2a5-90fb-460e-93e5-f413e5bb71c6@12d5.org
DESCRIPTION:https://apply.iese.edu/alumni-day-dach61989615
LOCATION:Munich Campus Maria-Theresia-Strasse 15\, 81675\, Munich\, DE
URL:https://apply.iese.edu/alumni-day-dach61989615
DTSTAMP:20260420T122701Z
END:VEVENT
END:VCALENDAR